BEGIN:VCALENDAR
VERSION:2.0
PRODID:-//Εταιρεία Σύγχρονης Οδοντιατρικής - ECPv6.15.14//NONSGML v1.0//EN
CALSCALE:GREGORIAN
METHOD:PUBLISH
X-ORIGINAL-URL:https://alfaconcept.eu
X-WR-CALDESC:Events for Εταιρεία Σύγχρονης Οδοντιατρικής
REFRESH-INTERVAL;VALUE=DURATION:PT1H
X-Robots-Tag:noindex
X-PUBLISHED-TTL:PT1H
BEGIN:VTIMEZONE
TZID:UTC
BEGIN:STANDARD
TZOFFSETFROM:+0000
TZOFFSETTO:+0000
TZNAME:UTC
DTSTART:19920101T000000
END:STANDARD
END:VTIMEZONE
BEGIN:VEVENT
DTSTART;TZID=UTC:19931124T080000
DTEND;TZID=UTC:19931124T170000
DTSTAMP:20260425T122227
CREATED:20251124T205924Z
LAST-MODIFIED:20251124T212945Z
UID:210-754128000-754160400@alfaconcept.eu
SUMMARY:3ο Συμπόσιο:Αισθητική Αποκατάσταση προσθίων δοντιών. Ένα κλινικό θεραπευτικό δίλημμα.
DESCRIPTION:Συντονιστής: Γερ. Γουβίτσας \nΘεματολογία: \nΣε τι συνίσταται το πρόβλημα.\nΑιτιοπαθογένεια των δυσχρωμικών και δυσπλαστικών προσθίων δοντιών.\nΤυπικές αισθητικές αποκαταστάσεις.\nΛεύκανση των δοντιών. Δυνατότητες κλινικές εφαρμογής  Μέσα  Τεχνικές.\nΒασικές αρχές οδοντικής αισθητικής.\nΌψεις συνθέτων ρητινών. Δυνατότητες κλινικής εφαρμογής  Υλικά  Τεχνικές.\nΌψεις πορσελάνης. Δυνατότητες κλινικής εφαρμογής  Υλικά  Τεχνικές.\nΣτεφάνες ολικής κάλυψης. Δυνατότητες κλινικής εφαρμογής  Υλικά  Τεχνικές. \nΟμιλητές:\nΔουβίτσας Γερ.\nΚαφούσιας Ν.\nΛιούμη Ε.\nΠαξιμαδά Χ.\nΣίσκος Γ.\nΤσιλίρα Χ.\nΩραιόπουλος Σ.
URL:https://alfaconcept.eu/eso-event/3%ce%bf-%cf%83%cf%85%ce%bc%cf%80%cf%8c%cf%83%ce%b9%ce%bf%ce%b1%ce%b9%cf%83%ce%b8%ce%b7%cf%84%ce%b9%ce%ba%ce%ae-%ce%b1%cf%80%ce%bf%ce%ba%ce%b1%cf%84%ce%ac%cf%83%cf%84%ce%b1%cf%83%ce%b7-%cf%80%cf%81/
CATEGORIES:Συμπόσιο
END:VEVENT
BEGIN:VEVENT
DTSTART;TZID=UTC:19931124T080000
DTEND;TZID=UTC:19931124T170000
DTSTAMP:20260425T122227
CREATED:20251124T205821Z
LAST-MODIFIED:20251124T212913Z
UID:208-754128000-754160400@alfaconcept.eu
SUMMARY:2ο Συμπόσιο: Οδοντιατρικό Αμάλγαμα. Μύθος και πραγματικότητα για τους κινδύνους από τη χρήση του
DESCRIPTION:Συντονιστής: Π. Λαγουβάρδος \nΘεματολογία: \nΙστορική εξέλιξη της σύνθεσης του αμαλγάματος.\nΗ δυνατότητα των στοιχείων του αμαλγάματος να προκαλέσουν βλάβες.\nΟι έλεγχοι και η αξιοπιστία τους στον προσδιορισμό των πιθανών βλαβών από το αμάλγαμα.\nΥποδείξεις για την ασφαλή χρήση του αμαλγάματος. \nΟμιλητές:\nΚρανιάς Ν.\nΛιούμη Ε.\nΠαλαιοκρασάς Λ.\nΠαπαϊωάννου Γ.
URL:https://alfaconcept.eu/eso-event/2%ce%bf-%cf%83%cf%85%ce%bc%cf%80%cf%8c%cf%83%ce%b9%ce%bf-%ce%bf%ce%b4%ce%bf%ce%bd%cf%84%ce%b9%ce%b1%cf%84%cf%81%ce%b9%ce%ba%cf%8c-%ce%b1%ce%bc%ce%ac%ce%bb%ce%b3%ce%b1%ce%bc%ce%b1-%ce%bc%cf%8d%ce%b8/
CATEGORIES:Συμπόσιο
END:VEVENT
BEGIN:VEVENT
DTSTART;TZID=UTC:19930508T080000
DTEND;TZID=UTC:19930508T170000
DTSTAMP:20260425T122227
CREATED:20251124T205705Z
LAST-MODIFIED:20251124T205705Z
UID:206-736848000-736880400@alfaconcept.eu
SUMMARY:1ο Συμπόσιο: Ακίνητη Προσθετική
DESCRIPTION:Συντονιστής: Ν. Καφούσιας \nΘεματολογία: \nΑκίνητη ή Κινητή προσθετική αποκατάσταση.\nΣτοματική αποκατάσταση και διαταραχή της ισορροπίας του στοματογναθικού συστήματος.\nΣυγκρατητικά μέσα μερικών οδοντοστοιχιών (Αγκιστρα – Σύνδεσμοι ακριβείας – Τηλεσκοπικές στεφάνες).\nΟλικές οδοντοστοιχίες – Προβληματισμοί.\nΠροετοιμασία του περιοδοντίου για ακίνητες προσθέσεις. Γέφυρες με ελεύθερα άκρα. \nΟμιλητές:\nΑντωνόπουλος Α.\nΔημητρίου Π.\nΚαραγιάννης Α.\nΛομβαρδάς Γ.\nΠαπαθανασίου Σ.
URL:https://alfaconcept.eu/eso-event/1%ce%bf-%cf%83%cf%85%ce%bc%cf%80%cf%8c%cf%83%ce%b9%ce%bf-%ce%b1%ce%ba%ce%af%ce%bd%ce%b7%cf%84%ce%b7-%cf%80%cf%81%ce%bf%cf%83%ce%b8%ce%b5%cf%84%ce%b9%ce%ba%ce%ae/
CATEGORIES:Συμπόσιο
END:VEVENT
END:VCALENDAR