BEGIN:VCALENDAR
VERSION:2.0
PRODID:-//Εταιρεία Σύγχρονης Οδοντιατρικής - ECPv6.15.14//NONSGML v1.0//EN
CALSCALE:GREGORIAN
METHOD:PUBLISH
X-ORIGINAL-URL:https://alfaconcept.eu
X-WR-CALDESC:Events for Εταιρεία Σύγχρονης Οδοντιατρικής
REFRESH-INTERVAL;VALUE=DURATION:PT1H
X-Robots-Tag:noindex
X-PUBLISHED-TTL:PT1H
BEGIN:VTIMEZONE
TZID:UTC
BEGIN:STANDARD
TZOFFSETFROM:+0000
TZOFFSETTO:+0000
TZNAME:UTC
DTSTART:19870101T000000
END:STANDARD
END:VTIMEZONE
BEGIN:VEVENT
DTSTART;TZID=UTC:20000602T080000
DTEND;TZID=UTC:20000604T170000
DTSTAMP:20260420T173603
CREATED:20251124T210725Z
LAST-MODIFIED:20251124T210725Z
UID:221-959932800-960138000@alfaconcept.eu
SUMMARY:5η Πανελλήνια Σύνοδος Κλινικής Οδοντιατρικής
DESCRIPTION:
URL:https://alfaconcept.eu/eso-event/5%ce%b7-%cf%80%ce%b1%ce%bd%ce%b5%ce%bb%ce%bb%ce%ae%ce%bd%ce%b9%ce%b1-%cf%83%cf%8d%ce%bd%ce%bf%ce%b4%ce%bf%cf%82-%ce%ba%ce%bb%ce%b9%ce%bd%ce%b9%ce%ba%ce%ae%cf%82-%ce%bf%ce%b4%ce%bf%ce%bd%cf%84%ce%b9/
CATEGORIES:Πανελλήνια Σύνοδος
END:VEVENT
BEGIN:VEVENT
DTSTART;TZID=UTC:19980509T080000
DTEND;TZID=UTC:19980510T170000
DTSTAMP:20260420T173603
CREATED:20251124T210647Z
LAST-MODIFIED:20251124T210647Z
UID:219-894700800-894819600@alfaconcept.eu
SUMMARY:4η Πανελλήνια Σύνοδος Κλινικής Οδοντιατρικής
DESCRIPTION:
URL:https://alfaconcept.eu/eso-event/4%ce%b7-%cf%80%ce%b1%ce%bd%ce%b5%ce%bb%ce%bb%ce%ae%ce%bd%ce%b9%ce%b1-%cf%83%cf%8d%ce%bd%ce%bf%ce%b4%ce%bf%cf%82-%ce%ba%ce%bb%ce%b9%ce%bd%ce%b9%ce%ba%ce%ae%cf%82-%ce%bf%ce%b4%ce%bf%ce%bd%cf%84%ce%b9/
CATEGORIES:Πανελλήνια Σύνοδος
END:VEVENT
BEGIN:VEVENT
DTSTART;TZID=UTC:19960426T080000
DTEND;TZID=UTC:19960427T170000
DTSTAMP:20260420T173603
CREATED:20251124T210601Z
LAST-MODIFIED:20251124T210601Z
UID:217-830505600-830624400@alfaconcept.eu
SUMMARY:3η Πανελλήνια Σύνοδος Κλινικής Οδοντιατρικής
DESCRIPTION:
URL:https://alfaconcept.eu/eso-event/3%ce%b7-%cf%80%ce%b1%ce%bd%ce%b5%ce%bb%ce%bb%ce%ae%ce%bd%ce%b9%ce%b1-%cf%83%cf%8d%ce%bd%ce%bf%ce%b4%ce%bf%cf%82-%ce%ba%ce%bb%ce%b9%ce%bd%ce%b9%ce%ba%ce%ae%cf%82-%ce%bf%ce%b4%ce%bf%ce%bd%cf%84%ce%b9/
CATEGORIES:Πανελλήνια Σύνοδος
END:VEVENT
BEGIN:VEVENT
DTSTART;TZID=UTC:19960426T080000
DTEND;TZID=UTC:19960427T170000
DTSTAMP:20260420T173603
CREATED:20251124T210507Z
LAST-MODIFIED:20251124T210507Z
UID:215-830505600-830624400@alfaconcept.eu
SUMMARY:2η Πανελλήνια Σύνοδος Κλινικής Οδοντιατρικής
DESCRIPTION:Θεματολογία: \nΓΕΝΙΚΑ ΘΕΜΑΤΑ \nΗ συμβολή των επιστημονικών εταιριών στην οδοντιατρική.\nΟκτώ χρόνια λειτουργίας των ΑΕΙ με το νόμο πλαίσιο.\nΤο σύστημα επιλογής των υποψηφίων για την τριτοβάθμια εκπαίδευση.\nΗ παιδεία του βάθους. \nΕΙΣΗΓΗΣΕΙΣ \nΠροβληματισμοί στην αντικατάσταση παλιών εμφράξεων.\nΗ διάγνωση της τερηδόνας στην κλινική πράξη.\nΑποτυχία ενδοδοντικής θεραπείας. Αξιολόγηση – Αντιμετώπιση.\nΗ ενδοδοντική θεραπεία στα πλαίσια της επανορθωτικής οδοντιατρικής.\nΠεριοδοντική προσέγγιση πριν την προσθετική αποκατάσταση.\nΠεριοδοντική προσέγγιση μετά την προσθετική αποκατάσταση.\nΚλινική αντιμετώπιση σύνθετων προσθετικών περιστατικών.\nΚλινική σημασία δοντιών και αγκίστρων μερικών οδοντοστοιχιών.\nΚλινική εφαρμογή υαλοκεραμικών στεφανών Dicor.\nΕμφυτεύματα και προσθετική αποκατάσταση.\nΕΛΕΥΘΕΡΕΣ ΑΝΑΚΟΙΝΩΣΕΙΣ \nΠαρουσιάστηκαν 31 ελεύθερες ανακοινώσεις με θέματα: \nΠροσθετικής\nΟδοντ. Χειρουργικής\nΕνδοδοντίας\nΠεριοδοντολογίας\nΑκτινοδιαγνωστικής \nΕΠΙΣΤΗΜΟΝΙΚΑ ΕΚΘΕΜΑΤΑ (POSTERS) \nΠαρουσιάστηκαν 15 posters με θέματα: \nΠροσθετικής\nΟδοντικής χειρουργικής\nΕνδοδοντίας \nΟμιλητές: \nΑιλιανού Α.\nΑντωνόπουλος Α.\nΑνωγιάτη Α.\nΑσίκης Χ.\nΒαλαβάνης Δ.\nΒάρναλης Π.\nΒρότσος Ι.\nΓαβρόγλου Κ.\nΓαρέφης Π.\nΓονίδης Δ.\nΓούσιας Η.\nΓρύλλου Ν.\nGrunder U.\nΔαμιανάκου Χ.\nΔερμάτη Α.\nΔουβίτσας Γερ.\nΔουκουδάκης Σ.\nΔρέττα Α.\nΖαμπέλης Γ.\nΖωγράφου Μ.\nΚακάμπουρα Α.\nΚαλφάογλου Π.\nΚαραγεωργίου Μ.\nΚατσαρός Ν.\nΚαφούσιας Ν.\nΚερεζούδης Ν.\nΚηπιώτη Α.\nΚομπόλη Α.\nΚοντακιώτης Ε.\nΚωνσταντάκη Ε.\nΛαγουβάρδος Π.\nΛαγουδάκης Μ.\nΛιούμη Ε.\nΜαντζαβίνος Ζ.\nΜαρκοπούλου Κ.\nΜήτσης Φ.\nΜόρφης Α.\nΜουντούρης Γ.\nΝάκου Μ.\nΝικέλλης Ι.\nΝικολοπούλου Α.\nΞυλινά Μ.\nΠανόπουλος Π.\nΠαξιμαδά Χ.\nΠαπαδάκου Μ.\nΠαπαδόπουλος Τρ.\nΠαπανικήτα Μ.\nΠαρούσης Δ.\nΠαράσχης Α.\nΠατσουράκος Α.\nΠλατανίστα Β.\nΠρούντζος Φ.\nΣακελλαροπούλου Φ.\nΣερέφογλου Μ.\nΣπυρόπουλος Γ.\nΣτέας Α.\nΣυκαράς Σ.\nΤζωρτζοπούλου Ε.\nΤριποδάκης Αρ.\nΤσάμη Α.\nΤσιλίρα Χ.\nΤσόκας Κ.\nΤσούτσος Α.\nΦαλλιέρου Α.\nΦερέτος Κ.\nΦούζας Δ.\nΦωτεινός Κ.\nΧαμπάζ Μ.\nΧρυσαφίδης Χ.\nΩραιόπουλος Σ.
URL:https://alfaconcept.eu/eso-event/2%ce%b7-%cf%80%ce%b1%ce%bd%ce%b5%ce%bb%ce%bb%ce%ae%ce%bd%ce%b9%ce%b1-%cf%83%cf%8d%ce%bd%ce%bf%ce%b4%ce%bf%cf%82-%ce%ba%ce%bb%ce%b9%ce%bd%ce%b9%ce%ba%ce%ae%cf%82-%ce%bf%ce%b4%ce%bf%ce%bd%cf%84%ce%b9/
CATEGORIES:Πανελλήνια Σύνοδος
END:VEVENT
BEGIN:VEVENT
DTSTART;TZID=UTC:19880421T080000
DTEND;TZID=UTC:19880424T170000
DTSTAMP:20260420T173603
CREATED:20251124T210317Z
LAST-MODIFIED:20251124T210317Z
UID:213-577612800-577904400@alfaconcept.eu
SUMMARY:1η Πανελλήνια Σύνοδος Κλινικής Οδοντιατρικής
DESCRIPTION:Θεματολογία: \nΓΕΝΙΚΑ ΘΕΜΑΤΑ \nΤο Ελληνικό πανεπιστήμιο από τη μεταπολίτευση μέχρι σήμερα.\nΔημοτική και επιστημονικός λόγος.\nΑισθητική. \nΣΤΡΟΓΓΥΛΑ ΤΡΑΠΕΖΙΑ \nΓενικές κατευθύνσεις στην οδοντιατρική.\nΈγκαιρη διάγνωση και συντηρητική αντιμετώπιση των νόσων των στοματικών ιστών.\nΟι προσθετικές αποκαταστάσεις σήμερα. \nΕΙΣΗΓΗΣΕΙΣ \nΕργονομία – Οργάνωση ιατρείου.\nΕπαγγελματική ενημέρωση.\nΈννοια – Σημασία – Γενικές αρχές εφαρμοσμένης πρόληψης.\nΠροσέγγιση του ασθενή.\nΗ προσφορά της ενδοδοντίας στην κλινική πράξη.\nΠότε και πως αντιμετωπίζονται οι δυσλειτουργίες του στοματογναθικού συστήματος.\nΕξέταση – διάγνωση – πρόγνωση.\nΕιδικά συγκλεισιακά προβλήματα στις προσθετικές αποκαταστάσεις.\nΕκτεταμένες πρόσθιες αποκαταστάσεις.\nΥλικά αποκατάστασης στο χώρο της οδοντικής χειρουργικής.\nΟι αποκαταστάσεις της οδοντικής χειρουργικής από βιολογική και αισθητική άποψη.\nΚριτική αξιολόγηση της θεραπείας των νόσων του περιοδοντίου.\nΧειρουργική του περιοδοντίου.\nΠροκαταρκτικές βλάβες.\nΚακοήθη νεοπλάσματα του στόματος. Ο ρόλος του οδοντίατρου στην έγκαιρη διάγνωση.\nΕΙΔΙΚΑ ΘΕΜΑΤΑ \nΠροβλήματα κατά την ενδοδοντική θεραπεία.\nΤραυματικές βλάβες των δοντιών στα παιδιά. ’μεση αντιμετώπιση.\nΕργαλεία περιοδοντίου – Χειρισμοί – Τροχισμός.\nΑισθητικές αποκαταστάσεις – Επιλογή περιπτώσεων – Υλικά – Τεχνικές.\nΗ σύγκλειση στον αρθρωτήρα και στο στόμα.\nΗ βιοψία στο οδοντιατρείο.\nΕΠΙΣΤΗΜΟΝΙΚΑ ΕΚΘΕΜΑΤΑ (POSTERS) \nΠαρουσιάστηκαν 17 posters με θέματα: \nΟδοντικής χειρουργικής\nΠροσθετικής\nΠροληπτικής\nΠεριοδοντολογίας\nΠαιδοδοντίας\nΕνδοδοντίας\nΟμιλητές: \nΑγγελόπουλος Α.\nΑθανασούλη Θ.\nΑραβανής Λ.\nΒαλαβάνης Δ.\nΓαρέφης Π.\nΔημαράς Α.\nΔημητρίου Π.\nΔουβίτσας Γερ.\nΙωσηφίδου Π.\nΚακαράτζα Ε.\nΚαλούμενος Ι.\nΚαραμπούτα Ε.\nΚατέχης Α.\nΚατσαβριάς Η.\nΚαφούσιας Ν.\nΚεπεγιάννη Ο.\nΚηπιώτη Α.\nΚομπόλη Α.\nΚουνάρη Χ.\nΚριμπάς Γ.\nΚωνσταντινίδης Α.\nΛαγουβάρδος Π.\nΛάσκαρης Γ.\nΛυγιδάκης Ν.\nΛομβαρδάς Γ.\nΜακρής Γ.\nΜήτσης Φ.\nΜόρφης Α.\nΜπαλτζάκη Γ.\nΜυταράς Δ.\nΟικονομοπούλου Π.\nΟυλής Κ.\nΠαπανικολάου Σ.\nΠρούντζος Φ.\nΣάμιος Β.\nΣίσκος Γ.\nΣυκαράς Σ.\nΤζωρτζοπούλου Ε.\nΤριποδάκης Α.\nΤσιχλάκης Κ.\nΤσούνιας Β.\nΤσούτσος Α.\nΩραιόπουλος Σ.
URL:https://alfaconcept.eu/eso-event/1%ce%b7-%cf%80%ce%b1%ce%bd%ce%b5%ce%bb%ce%bb%ce%ae%ce%bd%ce%b9%ce%b1-%cf%83%cf%8d%ce%bd%ce%bf%ce%b4%ce%bf%cf%82-%ce%ba%ce%bb%ce%b9%ce%bd%ce%b9%ce%ba%ce%ae%cf%82-%ce%bf%ce%b4%ce%bf%ce%bd%cf%84%ce%b9/
CATEGORIES:Πανελλήνια Σύνοδος
END:VEVENT
END:VCALENDAR