BEGIN:VCALENDAR
VERSION:2.0
PRODID:-//Εταιρεία Σύγχρονης Οδοντιατρικής - ECPv6.15.14//NONSGML v1.0//EN
CALSCALE:GREGORIAN
METHOD:PUBLISH
X-WR-CALNAME:Εταιρεία Σύγχρονης Οδοντιατρικής
X-ORIGINAL-URL:https://alfaconcept.eu
X-WR-CALDESC:Events for Εταιρεία Σύγχρονης Οδοντιατρικής
REFRESH-INTERVAL;VALUE=DURATION:PT1H
X-Robots-Tag:noindex
X-PUBLISHED-TTL:PT1H
BEGIN:VTIMEZONE
TZID:UTC
BEGIN:STANDARD
TZOFFSETFROM:+0000
TZOFFSETTO:+0000
TZNAME:UTC
DTSTART:19850101T000000
END:STANDARD
END:VTIMEZONE
BEGIN:VEVENT
DTSTART;TZID=UTC:19981210T080000
DTEND;TZID=UTC:19990302T170000
DTSTAMP:20260421T041634
CREATED:20251124T212255Z
LAST-MODIFIED:20251124T212425Z
UID:233-913276800-920394000@alfaconcept.eu
SUMMARY:6ος Κύκλος Ενημερωτικών Μαθημάτων
DESCRIPTION:10 Δεκεμβρίου 1998 και 2 Μαρτίου 1999 \n  \n10 Δεκεμβρίου 1998: \nΣύγχρονα Κεραμικά Υλικά / Καφούσιας Ν. \n  \n2 Μαρτίου 1999: \nΣύγχρονα Υλικά Συντηρητικών Αποκαταστάσεων / Δουβίτσας Γερ.
URL:https://alfaconcept.eu/eso-event/6%ce%bf%cf%82-%ce%ba%cf%8d%ce%ba%ce%bb%ce%bf%cf%82-%ce%b5%ce%bd%ce%b7%ce%bc%ce%b5%cf%81%cf%89%cf%84%ce%b9%ce%ba%cf%8e%ce%bd-%ce%bc%ce%b1%ce%b8%ce%b7%ce%bc%ce%ac%cf%84%cf%89%ce%bd/
CATEGORIES:Ενημερωτικά Μαθήματα
END:VEVENT
BEGIN:VEVENT
DTSTART;TZID=UTC:19930925T080000
DTEND;TZID=UTC:19931121T170000
DTSTAMP:20260421T041634
CREATED:20251124T212011Z
LAST-MODIFIED:20251124T212011Z
UID:231-748944000-753901200@alfaconcept.eu
SUMMARY:5ος Κύκλος Ενημερωτικών Μαθημάτων
DESCRIPTION:25 Σεπτεμβρίου και 20 – 21 Νοεμβρίου 1993 \nΘεματολογία: \n(Εισηγήσεις)\n(Επιτραπέζιες επιδείξεις)\nα. Προσθετική – Οδ. Χειρουργική: Αισθητικές αποκαταστάσεις. \n25Σεπτεμβρίου 1993:\nΤεχνικές αισθητικών αποκαταστάσεων προσθίων και οπισθίων δοντιών.\nΠροστομιακές όψεις σύνθετης ρητίνης.\nΈνθετα και επένθετα σύνθετης ρητίνης. \nΠρακτική επίδειξη παρασκευών και τοποθέτησης αισθητικών αποκαταστάσεων.\nβ. Κινητή Προσθετική: Μερικές Οδοντοστοιχίες: Σχεδίαση\, Εναλλακτικές λύσεις. \n20 Νοεμβρίου 1993: \nΒιολογικό υπόστρωμα Μερ.Οδοντοστοιχιών.\nΒασικές αρχές κατασκευής.\nΣυνδετήρες – Συγκρατητικά μέσα – Σύνδεσμοι.\nΝαρθηκοποίηση – Μεταλλική μασητική επιφάνεια.\nΠρακτική επίδειξη.\nγ. Φυσιολογία Στοματογναθικού Συστήματος: Αντιμετώπιση των Διαταραχών του Σ.Γ.Σ. \n21 Νοεμβρίου 1993: \nΓενικά περί θεραπείας των κρανιογναθικών διαταραχών.\nΝάρθηκες: Είδη – Νάρθηκες ολικής κάλυψης.\nΤεχνικές προδιαγραφές κατασκευής και ρύθμισης ναρθήκων.\nΕκλεκτικός τροχισμός\, Εξισορρόπηση σύγκλεισης.\nΠρακτική επίδειξη κατασκευής νάρθηκα. \nΟμιλητές:\nΒαλαμβάνος Κ.\nΔημητρίου Π.\nΔουβίτσας Γερ.\nΔρούκας Β.\nΖήσης Α.\nΚαλούμενος Ι.\nΚαρκαζής Η.\nΚαφούσιας Ν.\nΚεπεγιάννη Ο.\nΛιούμη Ε.\nΜαλαγάρης Ι.\nΜπαλτζάκη Γ.\nΟικονόμου Π.\nΠαναγιώτου Δ.\nΠαπαγιαννοπούλου Π.\nΠολυζώης Γ.\nΣταυράκης Γ.\nΣωτηροπούλου Η.\nΤζάκης Μ.\nΤσιρώνης Γ.\nΤσιλίρα Χ.
URL:https://alfaconcept.eu/eso-event/5%ce%bf%cf%82-%ce%ba%cf%8d%ce%ba%ce%bb%ce%bf%cf%82-%ce%b5%ce%bd%ce%b7%ce%bc%ce%b5%cf%81%cf%89%cf%84%ce%b9%ce%ba%cf%8e%ce%bd-%ce%bc%ce%b1%ce%b8%ce%b7%ce%bc%ce%ac%cf%84%cf%89%ce%bd/
CATEGORIES:Ενημερωτικά Μαθήματα
END:VEVENT
BEGIN:VEVENT
DTSTART;TZID=UTC:19920222T080000
DTEND;TZID=UTC:19921122T170000
DTSTAMP:20260421T041634
CREATED:20251124T211820Z
LAST-MODIFIED:20251124T211820Z
UID:229-698745600-722451600@alfaconcept.eu
SUMMARY:4ος Κύκλος Ενημερωτικών Μαθημάτων
DESCRIPTION:4ος ΚΥΚΛΟΣ ΕΝΗΜΕΡΩΤΙΚΩΝ ΜΑΘΗΜΑΤΩΝ\n22 – 23 Φεβρουαρίου\n30 – 31 Μαρτίου\,\n21 – 22 Νοεμβρίου 1992 \nΘεματολογία: \n(Εισηγήσεις)\n(Επιτραπέζιες επιδείξεις) \nα. Παιδοδοντία: Αποκατάσταση οπισθίων νεογιλών δοντιών. \nΕμφράξεις αμαλγάματος.\nΠολφοτομή νεογιλών δοντιών.\nΑνοξείδωτες στεφάνες νεογιλών δοντιών.\nΠρακτική επίδειξη.\nΠρακτική εφαρμογή. \nβ. Προσθετική – Οδ. Χειρουργική: Αισθητικές αποκαταστάσεις. \nΤεχνικές αισθητικών αποκαταστάσεων προσθίων και οπισθίων δοντιών.\nΠρακτική επίδειξη.\nΠρακτική εφαρμογή. \nγ. Ενδοδοντία: Ενδοδοντική θεραπεία και προετοιμασία. \nΕνδοδοντική θεραπεία με σκοπό την τοποθέτηση ενδορριζικού άξονα.\nΠρακτική επίδειξη.\nΠρακτική εφαρμογή. \nδ. Προσθετική – Οδ. Χειρουργική: Αποκατάσταση θεραπευμένωνδοντιών. \nΑποκαταστάσεις ενδοδοντικά θεραπευμένων δοντιών με τη χρήση ενδορριζικών αξόνων.\nΠρακτική επίδειξη.\nΠρακτική εφαρμογή. \nε. Προσθετική: Παρασκευές δοντιών για μεταλλοκεραμική. \nΠαρασκευές προσθίων – οπισθίων δοντιών.\nΠρακτική επίδειξη.\nΠρακτική εφαρμογή. \nστ. Προσθετική: Μέθοδοι αποτύπωσης. \nΑποτυπωτικά υλικά.\nΜέθοδοι αποτύπωσης.\nΠρακτική επίδειξη.\nΠρακτική εφαρμογή. \nΟμιλητές: \nΒαδιάκας Γ.\nΒλάχου Α.\nΔουβίτσας Γερ.\nΚαββαδία Α.\nΚαραγιάννης Α.\nΚαφούσιας Ν.\nΚεπεγιάννη Ο.\nΚοντακιώτης Ε.\nΚουρκουμπέτη Κ.\nΛιούμη Ε.\nΛυγιδάκης Ν.\nΜόρφης Α.\nΜπαλτζάκη Γ.\nΝικέλλης Ι.\nΟικονόμου Ι.\nΟυλής Κ.\nΠαξιμαδά Χ.\nΣερέφογλου Μ.\nΣίσκος Γ.\nΣταθόπουλος Α.\nΣωτηροπούλου Η.\nΤσιλίρα Χ.\nΤσινίδου Κ.
URL:https://alfaconcept.eu/eso-event/4%ce%bf%cf%82-%ce%ba%cf%8d%ce%ba%ce%bb%ce%bf%cf%82-%ce%b5%ce%bd%ce%b7%ce%bc%ce%b5%cf%81%cf%89%cf%84%ce%b9%ce%ba%cf%8e%ce%bd-%ce%bc%ce%b1%ce%b8%ce%b7%ce%bc%ce%ac%cf%84%cf%89%ce%bd/
CATEGORIES:Ενημερωτικά Μαθήματα
END:VEVENT
BEGIN:VEVENT
DTSTART;TZID=UTC:19910330T080000
DTEND;TZID=UTC:19910331T170000
DTSTAMP:20260421T041634
CREATED:20251124T211505Z
LAST-MODIFIED:20251124T211505Z
UID:227-670320000-670438800@alfaconcept.eu
SUMMARY:3ος Κύκλος Ενημερωτικών Μαθημάτων
DESCRIPTION:Θεματολογία: \n(Εισηγήσεις)\n(Επιτραπέζιες επιδείξεις)\nα. Περιοδοντολογία: Ριζική Απόξεση. \n30 Μαρτίου 1991: \nΕπιλογή περιπτώσεων – Ενδείξεις.\nΣτόχος ριζικής απόξεσης.\nΑναμενόμενα αποτελέσματα.\nΠροϋποθέσεις για ριζική απόξεση.\nΠρακτική επίδειξη ριζικής απόξεσης.\nΑκόνισμα περιοδοντικών εργαλείων.\nΠρακτική εφαρμογή.\nβ. Προσθετική – Οδ. Χειρουργική: Αισθητικές αποκαταστάσεις. \n30 Μαρτίου 1991: \nΤεχνικές αισθητικών αποκαταστάσεων προσθίων – οπισθίων.\nΠροστομιακές όψεις πορσελάνης.\nΈνθετα – Επένθετα πορσελάνης.\nΠροστομιακές όψεις συνθέτων ρητινών.\nΈνθετα – Επένθετα συνθέτων ρητινών.\nΠρακτική επίδειξη.\nΠρακτική εφαρμογή.\nγ. Φυσιολογία Στοματογναθικού Συστήματος: Θεραπευτικά μέσα. \n31 Μαρτίου 1991: \nΘεραπεία κρανιογναθικών διαταραχών.\nΝάρθηκες.\nΕκλεκτικός τροχισμός.\nΠρακτική επίδειξη.Πρακτική εφαρμογή.\nΟμιλητές: \nΑσημακοπούλου Γ.\nΔουβίτσας Γερ.\nΔρούκας Β.\nΚαλούμενος Ι.\nΚαμμά Ι.\nΚαφούσιας Ν.\nΚεπεγιάννη Ο.\nΚηπιώτη Α.\nΛιούμη Ε.\nΜαλαγάρης Ι.\nΜπαλτζάκη Γ.\nΠανής Β.\nΠαπαγιαννοπούλου Π.\nΠέτσιος Γ.\nΣωτηροπούλου Η.\nΤζάκης Μ.\nΤσιλίρα Χ.\nΧανούμη Ε.
URL:https://alfaconcept.eu/eso-event/3%ce%bf%cf%82-%ce%ba%cf%8d%ce%ba%ce%bb%ce%bf%cf%82-%ce%b5%ce%bd%ce%b7%ce%bc%ce%b5%cf%81%cf%89%cf%84%ce%b9%ce%ba%cf%8e%ce%bd-%ce%bc%ce%b1%ce%b8%ce%b7%ce%bc%ce%ac%cf%84%cf%89%ce%bd/
CATEGORIES:Ενημερωτικά Μαθήματα
END:VEVENT
BEGIN:VEVENT
DTSTART;TZID=UTC:19870307T080000
DTEND;TZID=UTC:19870315T170000
DTSTAMP:20260421T041634
CREATED:20251124T211331Z
LAST-MODIFIED:20251124T211331Z
UID:225-542102400-542826000@alfaconcept.eu
SUMMARY:2ος Κύκλος Ενημερωτικών Μαθημάτων
DESCRIPTION:Θεματολογία: \n(Εισηγήσεις)\n(Επιτραπέζιες επιδείξεις)\nα. Προσθετική: Σύγχρονες απόψεις κλινικών αποκαταστάσεων. \n7 Μαρτίου 1987: \nΗ κλινική φιλοσοφία των οδοντικών παρασκευών.\nΜεταλλοκεραμική: Επιλογή υλικών – Εργαστηριακός έλεγχος – Κλινική εφαρμογή. \n8 Μαρτίου 1987: \nΓέφυρα Maryland: Προϋποθέσεις και κλινική εφαρμογή.\nβ. Παιδοδοντία: Διατήρηση της λειτουργικότητας \n14 Μαρτίου 1987: \nΤρόποι και μέσα πρόληψης στο οδοντιατρείο.\nΘεραπεία πολφού: Πολφοτομή – πολφεκτομή νεογιλών.\nΠροβλήματα από τις πρόωρες και μη έγκαιρες εξαγωγές των νεογιλών δοντιών.\nγ. Οδοντική Χειρουργική: Κλινική αντιμετώπιση των βλαβών των σκληρών οδοντικών ουσιών. \n15 Μαρτίου 1987: \nΣύνθετες ρητίνες στα πίσω δόντια.\nΑποκατάσταση βλαβών των δοντιών.\nΟμιλητές: \nΒάρναλης Π.\nΒασιλοπούλου Α.\nΒιέρρου Α.\nΔαμιανάκου Χ.\nΔουβίτσας Γερ.\nΚαραγεωργίου Μ.\nΚατσαβριάς Η.\nΚεπεγιάννη Ο.\nΛαγουβάρδος Π.\nΛυγιδάκης Ν.\nΜπακούρος Γ.\nΜπαλτζάκη Γ.\nΝάκος Π.\nΝικέλλης Ι.\nΟυλής Κ.\nΠαξιμαδά Χ.\nΠαπαδόπουλος Τ.\nΤριποδάκης Α.\nΤσιλίρα Χ.\nΩραιόπουλος Σ.
URL:https://alfaconcept.eu/eso-event/2%ce%bf%cf%82-%ce%ba%cf%8d%ce%ba%ce%bb%ce%bf%cf%82-%ce%b5%ce%bd%ce%b7%ce%bc%ce%b5%cf%81%cf%89%cf%84%ce%b9%ce%ba%cf%8e%ce%bd-%ce%bc%ce%b1%ce%b8%ce%b7%ce%bc%ce%ac%cf%84%cf%89%ce%bd/
CATEGORIES:Ενημερωτικά Μαθήματα
END:VEVENT
BEGIN:VEVENT
DTSTART;TZID=UTC:19860607T080000
DTEND;TZID=UTC:19860628T170000
DTSTAMP:20260421T041634
CREATED:20251124T211136Z
LAST-MODIFIED:20251124T211136Z
UID:223-518515200-520362000@alfaconcept.eu
SUMMARY:1ος Κύκλος Ενημερωτικών Μαθημάτων
DESCRIPTION:Θεματολογία: (Εισηγήσεις) \n7 Ιουνίου 1986: Σύγχρονες αντιλήψεις στην Προσθετική. \n14 Ιουνίου 1986: Σύγχρονες αντιλήψεις στην Περιοδοντολογία. \n21 Ιουνίου 1986: Σύγχρονες αντιλήψεις στην Οδοντ. Χειρουργική. \n28 Ιουνίου 1986: Σύγχρονες αντιλήψεις στην Ενδοδοντία. \nΟμιλητές:\nΒαρελτζίδου Α.\nΔουβίτσας Γερ.\nΚατέχης Α.\nΚατσαρός Ν.\nΚαφούσιας Ν.\nΚεράνη Μ.\nΚηπιώτη Α.\nΛαγουβάρδος Π.\nΜόρφης Α.\nΠρούντζος Φ.\nΣυκαράς Σ.\nΤζούτζας Ι.\nΩραιόπουλος Σ.
URL:https://alfaconcept.eu/eso-event/1%ce%bf%cf%82-%ce%ba%cf%8d%ce%ba%ce%bb%ce%bf%cf%82-%ce%b5%ce%bd%ce%b7%ce%bc%ce%b5%cf%81%cf%89%cf%84%ce%b9%ce%ba%cf%8e%ce%bd-%ce%bc%ce%b1%ce%b8%ce%b7%ce%bc%ce%ac%cf%84%cf%89%ce%bd/
CATEGORIES:Ενημερωτικά Μαθήματα
END:VEVENT
END:VCALENDAR